BEGIN:VCALENDAR
VERSION:2.0
METHOD:PUBLISH
BEGIN:VEVENT
DTSTAMP:20260424T145934Z
DTSTART:20241102T170000Z
DTEND:20241102T190000Z
SUMMARY:November Family Saturdays
LOCATION:147 Lochiel St, Sarnia, ON N7T 0B4
END:VEVENT
END:VCALENDAR
